BEGIN:VCALENDAR
VERSION:2.0
PRODID:-//Tehama County Health Services - ECPv6.15.20//NONSGML v1.0//EN
CALSCALE:GREGORIAN
METHOD:PUBLISH
X-WR-CALNAME:Tehama County Health Services
X-ORIGINAL-URL:https://www.tehamacohealthservices.net
X-WR-CALDESC:Events for Tehama County Health Services
REFRESH-INTERVAL;VALUE=DURATION:PT1H
X-Robots-Tag:noindex
X-PUBLISHED-TTL:PT1H
BEGIN:VTIMEZONE
TZID:America/Los_Angeles
BEGIN:DAYLIGHT
TZOFFSETFROM:-0800
TZOFFSETTO:-0700
TZNAME:PDT
DTSTART:20170312T100000
END:DAYLIGHT
BEGIN:STANDARD
TZOFFSETFROM:-0700
TZOFFSETTO:-0800
TZNAME:PST
DTSTART:20171105T090000
END:STANDARD
BEGIN:DAYLIGHT
TZOFFSETFROM:-0800
TZOFFSETTO:-0700
TZNAME:PDT
DTSTART:20180311T100000
END:DAYLIGHT
BEGIN:STANDARD
TZOFFSETFROM:-0700
TZOFFSETTO:-0800
TZNAME:PST
DTSTART:20181104T090000
END:STANDARD
BEGIN:DAYLIGHT
TZOFFSETFROM:-0800
TZOFFSETTO:-0700
TZNAME:PDT
DTSTART:20190310T100000
END:DAYLIGHT
BEGIN:STANDARD
TZOFFSETFROM:-0700
TZOFFSETTO:-0800
TZNAME:PST
DTSTART:20191103T090000
END:STANDARD
BEGIN:DAYLIGHT
TZOFFSETFROM:-0800
TZOFFSETTO:-0700
TZNAME:PDT
DTSTART:20200308T100000
END:DAYLIGHT
BEGIN:STANDARD
TZOFFSETFROM:-0700
TZOFFSETTO:-0800
TZNAME:PST
DTSTART:20201101T090000
END:STANDARD
END:VTIMEZONE
BEGIN:VEVENT
DTSTART;TZID=America/Los_Angeles:20190307T131500
DTEND;TZID=America/Los_Angeles:20190307T151500
DTSTAMP:20260419T215019
CREATED:20180221T224403Z
LAST-MODIFIED:20190313T202231Z
UID:1960-1551964500-1551971700@www.tehamacohealthservices.net
SUMMARY:Public Health Advisory Board Meeting
DESCRIPTION:The community is invited to join us for our monthly Public Health Advisory Board Meeting. \n\nGDE Error: Error retrieving file - if necessary turn off error checking (404:Not Found)\n\n\nGDE Error: Error retrieving file - if necessary turn off error checking (404:Not Found)\n\n  \n 
URL:https://www.tehamacohealthservices.net/event/public-health-advisory-board-meeting/
LOCATION:1860 Walnut Street Bldg. D\, Red Bluff\, CA\, 1860 Walnut Street Bldg. D\, Red Bluff\, CA\, United States
CATEGORIES:Advisory Board Meeting,Public Health
ATTACH;FMTTYPE=image/jpeg:https://www.tehamacohealthservices.net/wp-content/uploads/2019/02/Board-Meeting-e1551724690354.jpg
ORGANIZER;CN="Ashley Schaack":MAILTO:ashley.schaack@tcsha.net
END:VEVENT
BEGIN:VEVENT
DTSTART;TZID=America/Los_Angeles:20190221T093000
DTEND;TZID=America/Los_Angeles:20190221T170000
DTSTAMP:20260419T215020
CREATED:20190201T192000Z
LAST-MODIFIED:20190225T223327Z
UID:2791-1550741400-1550768400@www.tehamacohealthservices.net
SUMMARY:MHSA Leadership Training
DESCRIPTION:About This Training\nACCESS’ Leadership Training educates participants about their responsibilities under the Mental Health Services Act (MHSA)\, and teaches them how to effectively implement the MHSA’s six General Standards and Community Program Planning Process requirements. Many mental health policy makers have never received a meaningful overview of the MHSA and other applicable mental health laws that apply to their work\, the role of committees and bodies in the public mental health system\, stakeholder inclusion and accountability\, fiscal transparency\, or open meeting laws prior to assuming the responsibilities of their positions. Without a deep understanding of the goals and values of the MHSA and the principles upon which public mental health services are founded\, they cannot be truly effective in their roles. This training provides agency leaders and other key decision-makers in California’s Public Mental Health System a better understanding of their roles and how to effectuate the transformative change and community participation envisioned under the MHSA. \n\nDownload (PDF\, 175KB)
URL:https://www.tehamacohealthservices.net/event/mhsa-leadership-training/
LOCATION:Chico\, CA
CATEGORIES:Training
ATTACH;FMTTYPE=image/png:https://www.tehamacohealthservices.net/wp-content/uploads/2019/02/MHSA-Leadership-Training.png
END:VEVENT
BEGIN:VEVENT
DTSTART;TZID=America/Los_Angeles:20190220T171500
DTEND;TZID=America/Los_Angeles:20190220T184500
DTSTAMP:20260419T215020
CREATED:20190212T185233Z
LAST-MODIFIED:20190212T193647Z
UID:2805-1550682900-1550688300@www.tehamacohealthservices.net
SUMMARY:Corning CPP Meeting
DESCRIPTION:
URL:https://www.tehamacohealthservices.net/event/corning-cpp-meeting/
LOCATION:Meuser Health Center\, 275 Solano Street\, Corning\, CA\, United States
CATEGORIES:MHSA Community Meetings
ATTACH;FMTTYPE=image/jpeg:https://www.tehamacohealthservices.net/wp-content/uploads/2019/02/mhsa-community-meetings-tchsa.jpg
END:VEVENT
BEGIN:VEVENT
DTSTART;TZID=America/Los_Angeles:20190219T140000
DTEND;TZID=America/Los_Angeles:20190219T153000
DTSTAMP:20260419T215020
CREATED:20190212T184814Z
LAST-MODIFIED:20190212T193939Z
UID:2803-1550584800-1550590200@www.tehamacohealthservices.net
SUMMARY:Red Bluff CPP Meeting
DESCRIPTION:Special guests at the Red Bluff meeting!\nTo meet & hear directly from Tehama County residents\, staff from the State’s Mental Health Services Oversight & Accountability Commission (MHSOAC) will be in attendance.
URL:https://www.tehamacohealthservices.net/event/red-bluff-cpp-meeting/
LOCATION:Vista Way Center\, 1445 Vista Way\, Red Bluff\, CA\, United States
CATEGORIES:MHSA Community Meetings
ATTACH;FMTTYPE=image/jpeg:https://www.tehamacohealthservices.net/wp-content/uploads/2019/02/mhsa-community-meetings-tchsa.jpg
END:VEVENT
BEGIN:VEVENT
DTSTART;TZID=America/Los_Angeles:20190219T093000
DTEND;TZID=America/Los_Angeles:20190219T160000
DTSTAMP:20260419T215020
CREATED:20190201T191407Z
LAST-MODIFIED:20190225T224339Z
UID:2783-1550568600-1550592000@www.tehamacohealthservices.net
SUMMARY:Community Empowerment Workshop
DESCRIPTION:About This Workshop \nACCESS’ Community Empowerment Workshop educates clients\, peers\, advocates\, and community stakeholders on key provisions of the Mental Health Services Act (MHSA)\, including its requirements pertaining to the Community Program Planning Process and meaningful stakeholder involvement in mental health systems development\, oversight\, and evaluation. This Workshop also teaches attendees how to craft impactful policy statements to deliver at public meetings. ACCESS then accompanies participants to a local Mental Health Board/Commission meeting or MHSA planning meeting\, where they are supported in delivering their public statements and given a real-world opportunity to advocate for services and policies that positively impact clients in their community. \n\nDownload (PDF\, 929KB)
URL:https://www.tehamacohealthservices.net/event/community-empowerment-workshop/
LOCATION:Chico\, CA
CATEGORIES:Workshop
ATTACH;FMTTYPE=image/png:https://www.tehamacohealthservices.net/wp-content/uploads/2019/02/Community-Empowerment-Workshop.png
END:VEVENT
BEGIN:VEVENT
DTSTART;TZID=America/Los_Angeles:20180428T100000
DTEND;TZID=America/Los_Angeles:20180428T140000
DTSTAMP:20260419T215020
CREATED:20180221T224019Z
LAST-MODIFIED:20190227T021919Z
UID:1958-1524909600-1524924000@www.tehamacohealthservices.net
SUMMARY:Children's Fair
DESCRIPTION:
URL:https://www.tehamacohealthservices.net/event/childrens-fair/
LOCATION:CA
CATEGORIES:Children's Fair
ATTACH;FMTTYPE=image/jpeg:https://www.tehamacohealthservices.net/wp-content/uploads/2018/02/childrens-fair-tchsa.jpg
END:VEVENT
BEGIN:VEVENT
DTSTART;TZID=America/Los_Angeles:20180412T150000
DTEND;TZID=America/Los_Angeles:20180412T160000
DTSTAMP:20260419T215020
CREATED:20180221T220300Z
LAST-MODIFIED:20190227T022018Z
UID:1943-1523545200-1523548800@www.tehamacohealthservices.net
SUMMARY:Healthy Families Tehama Community Advisory Board  Meeting
DESCRIPTION:
URL:https://www.tehamacohealthservices.net/event/healthy-families-tehama-community-advisory-board-meeting/
LOCATION:CA
CATEGORIES:Advisory Board Meeting,Healthy Families
ATTACH;FMTTYPE=image/jpeg:https://www.tehamacohealthservices.net/wp-content/uploads/2018/02/healthy-families-tchsa.jpg
END:VEVENT
BEGIN:VEVENT
DTSTART;TZID=America/Los_Angeles:20180307T170000
DTEND;TZID=America/Los_Angeles:20180307T180000
DTSTAMP:20260419T215020
CREATED:20180221T220834Z
LAST-MODIFIED:20180221T220937Z
UID:1947-1520442000-1520445600@www.tehamacohealthservices.net
SUMMARY:Substance Use Recovery Advisory Board Meeting
DESCRIPTION:
URL:https://www.tehamacohealthservices.net/event/substance-use-recovery-advisory-board-meeting/
LOCATION:1860 Walnut Street Bldg. H\, Red Bluff\, CA\, 1860 Walnut Street Bldg. H\, Red Bluff\, CA\, United States
CATEGORIES:Advisory Board Meeting,Substance Use Recovery
END:VEVENT
END:VCALENDAR