BEGIN:VCALENDAR
VERSION:2.0
PRODID:-//Tehama County Health Services - ECPv6.15.20//NONSGML v1.0//EN
CALSCALE:GREGORIAN
METHOD:PUBLISH
X-WR-CALNAME:Tehama County Health Services
X-ORIGINAL-URL:https://www.tehamacohealthservices.net
X-WR-CALDESC:Events for Tehama County Health Services
REFRESH-INTERVAL;VALUE=DURATION:PT1H
X-Robots-Tag:noindex
X-PUBLISHED-TTL:PT1H
BEGIN:VTIMEZONE
TZID:America/Los_Angeles
BEGIN:DAYLIGHT
TZOFFSETFROM:-0800
TZOFFSETTO:-0700
TZNAME:PDT
DTSTART:20210314T100000
END:DAYLIGHT
BEGIN:STANDARD
TZOFFSETFROM:-0700
TZOFFSETTO:-0800
TZNAME:PST
DTSTART:20211107T090000
END:STANDARD
BEGIN:DAYLIGHT
TZOFFSETFROM:-0800
TZOFFSETTO:-0700
TZNAME:PDT
DTSTART:20220313T100000
END:DAYLIGHT
BEGIN:STANDARD
TZOFFSETFROM:-0700
TZOFFSETTO:-0800
TZNAME:PST
DTSTART:20221106T090000
END:STANDARD
BEGIN:DAYLIGHT
TZOFFSETFROM:-0800
TZOFFSETTO:-0700
TZNAME:PDT
DTSTART:20230312T100000
END:DAYLIGHT
BEGIN:STANDARD
TZOFFSETFROM:-0700
TZOFFSETTO:-0800
TZNAME:PST
DTSTART:20231105T090000
END:STANDARD
END:VTIMEZONE
BEGIN:VEVENT
DTSTART;TZID=America/Los_Angeles:20220602T131500
DTEND;TZID=America/Los_Angeles:20220602T143000
DTSTAMP:20260425T184810
CREATED:20210527T174606Z
LAST-MODIFIED:20210527T174606Z
UID:5825-1654175700-1654180200@www.tehamacohealthservices.net
SUMMARY:Public Health Advisory Board Meeting 6/02/22
DESCRIPTION:Please join us for the Public Health Advisory Board Meeting\, this meeting is open to the public.\nJoin Microsoft Teams Meeting \n+1 805-456-4468   United States\, Santa Barbara (Toll) \nConference ID: 826 449 178#
URL:https://www.tehamacohealthservices.net/event/public-health-advisory-board-meeting-6-02-22/
LOCATION:VIRTUAL MEETING
CATEGORIES:Advisory Board Meeting,Public Health
ATTACH;FMTTYPE=image/jpeg:https://www.tehamacohealthservices.net/wp-content/uploads/2018/02/advisory-boards-tehama-county-health-services-hdr.jpg
END:VEVENT
END:VCALENDAR