BEGIN:VCALENDAR
VERSION:2.0
PRODID:-//Tehama County Health Services - ECPv6.15.20//NONSGML v1.0//EN
CALSCALE:GREGORIAN
METHOD:PUBLISH
X-WR-CALNAME:Tehama County Health Services
X-ORIGINAL-URL:https://www.tehamacohealthservices.net
X-WR-CALDESC:Events for Tehama County Health Services
REFRESH-INTERVAL;VALUE=DURATION:PT1H
X-Robots-Tag:noindex
X-PUBLISHED-TTL:PT1H
BEGIN:VTIMEZONE
TZID:America/Los_Angeles
BEGIN:DAYLIGHT
TZOFFSETFROM:-0800
TZOFFSETTO:-0700
TZNAME:PDT
DTSTART:20200308T100000
END:DAYLIGHT
BEGIN:STANDARD
TZOFFSETFROM:-0700
TZOFFSETTO:-0800
TZNAME:PST
DTSTART:20201101T090000
END:STANDARD
BEGIN:DAYLIGHT
TZOFFSETFROM:-0800
TZOFFSETTO:-0700
TZNAME:PDT
DTSTART:20210314T100000
END:DAYLIGHT
BEGIN:STANDARD
TZOFFSETFROM:-0700
TZOFFSETTO:-0800
TZNAME:PST
DTSTART:20211107T090000
END:STANDARD
BEGIN:DAYLIGHT
TZOFFSETFROM:-0800
TZOFFSETTO:-0700
TZNAME:PDT
DTSTART:20220313T100000
END:DAYLIGHT
BEGIN:STANDARD
TZOFFSETFROM:-0700
TZOFFSETTO:-0800
TZNAME:PST
DTSTART:20221106T090000
END:STANDARD
END:VTIMEZONE
BEGIN:VEVENT
DTSTART;TZID=America/Los_Angeles:20210526T121500
DTEND;TZID=America/Los_Angeles:20210526T133000
DTSTAMP:20260424T195342
CREATED:20210520T203222Z
LAST-MODIFIED:20210520T203222Z
UID:5783-1622031300-1622035800@www.tehamacohealthservices.net
SUMMARY:Mental Health Board Meeting
DESCRIPTION:Download (PDF\, 49KB)
URL:https://www.tehamacohealthservices.net/event/mental-health-board-meeting/
CATEGORIES:Advisory Board Meeting,Behavioral Health
ATTACH;FMTTYPE=image/jpeg:https://www.tehamacohealthservices.net/wp-content/uploads/2020/09/MHSA-Logo.jpg
END:VEVENT
END:VCALENDAR