BEGIN:VCALENDAR
VERSION:2.0
PRODID:-//Tehama County Health Services - ECPv6.15.20//NONSGML v1.0//EN
CALSCALE:GREGORIAN
METHOD:PUBLISH
X-ORIGINAL-URL:https://www.tehamacohealthservices.net
X-WR-CALDESC:Events for Tehama County Health Services
REFRESH-INTERVAL;VALUE=DURATION:PT1H
X-Robots-Tag:noindex
X-PUBLISHED-TTL:PT1H
BEGIN:VTIMEZONE
TZID:America/Los_Angeles
BEGIN:DAYLIGHT
TZOFFSETFROM:-0800
TZOFFSETTO:-0700
TZNAME:PDT
DTSTART:20190310T100000
END:DAYLIGHT
BEGIN:STANDARD
TZOFFSETFROM:-0700
TZOFFSETTO:-0800
TZNAME:PST
DTSTART:20191103T090000
END:STANDARD
BEGIN:DAYLIGHT
TZOFFSETFROM:-0800
TZOFFSETTO:-0700
TZNAME:PDT
DTSTART:20200308T100000
END:DAYLIGHT
BEGIN:STANDARD
TZOFFSETFROM:-0700
TZOFFSETTO:-0800
TZNAME:PST
DTSTART:20201101T090000
END:STANDARD
BEGIN:DAYLIGHT
TZOFFSETFROM:-0800
TZOFFSETTO:-0700
TZNAME:PDT
DTSTART:20210314T100000
END:DAYLIGHT
BEGIN:STANDARD
TZOFFSETFROM:-0700
TZOFFSETTO:-0800
TZNAME:PST
DTSTART:20211107T090000
END:STANDARD
END:VTIMEZONE
BEGIN:VEVENT
DTSTART;TZID=America/Los_Angeles:20200906T080000
DTEND;TZID=America/Los_Angeles:20200912T170000
DTSTAMP:20260425T062229
CREATED:20200826T160619Z
LAST-MODIFIED:20200826T160619Z
UID:4630-1599379200-1599930000@www.tehamacohealthservices.net
SUMMARY:2020 Virtual Suicide Awareness Walk
DESCRIPTION:Download (PDF\, 204KB)
URL:https://www.tehamacohealthservices.net/event/2020-virtual-suicide-awareness-walk/
CATEGORIES:Behavioral Health,Healthy Families,Public Health
ATTACH;FMTTYPE=image/jpeg:https://www.tehamacohealthservices.net/wp-content/uploads/2018/08/behavioral-health-tehama-county-health-services.jpg
END:VEVENT
END:VCALENDAR