BEGIN:VCALENDAR
VERSION:2.0
PRODID:-//Tehama County Health Services - ECPv6.15.20//NONSGML v1.0//EN
CALSCALE:GREGORIAN
METHOD:PUBLISH
X-WR-CALNAME:Tehama County Health Services
X-ORIGINAL-URL:https://www.tehamacohealthservices.net
X-WR-CALDESC:Events for Tehama County Health Services
REFRESH-INTERVAL;VALUE=DURATION:PT1H
X-Robots-Tag:noindex
X-PUBLISHED-TTL:PT1H
BEGIN:VTIMEZONE
TZID:America/Los_Angeles
BEGIN:DAYLIGHT
TZOFFSETFROM:-0800
TZOFFSETTO:-0700
TZNAME:PDT
DTSTART:20190310T100000
END:DAYLIGHT
BEGIN:STANDARD
TZOFFSETFROM:-0700
TZOFFSETTO:-0800
TZNAME:PST
DTSTART:20191103T090000
END:STANDARD
BEGIN:DAYLIGHT
TZOFFSETFROM:-0800
TZOFFSETTO:-0700
TZNAME:PDT
DTSTART:20200308T100000
END:DAYLIGHT
BEGIN:STANDARD
TZOFFSETFROM:-0700
TZOFFSETTO:-0800
TZNAME:PST
DTSTART:20201101T090000
END:STANDARD
BEGIN:DAYLIGHT
TZOFFSETFROM:-0800
TZOFFSETTO:-0700
TZNAME:PDT
DTSTART:20210314T100000
END:DAYLIGHT
BEGIN:STANDARD
TZOFFSETFROM:-0700
TZOFFSETTO:-0800
TZNAME:PST
DTSTART:20211107T090000
END:STANDARD
END:VTIMEZONE
BEGIN:VEVENT
DTSTART;VALUE=DATE:20200518
DTEND;VALUE=DATE:20200519
DTSTAMP:20260425T115043
CREATED:20200505T234209Z
LAST-MODIFIED:20200505T234209Z
UID:3864-1589760000-1589846399@www.tehamacohealthservices.net
SUMMARY:Virtual Drumming: Japanese Drumming
DESCRIPTION:Eitetsu Hayashi // Fertility of the Sea (Taiko)- Japanese Drumming- famous Taiko drumming group.\nJapanese Drumming from the Senzoku Gakuen College of Music. 10:41 \n\n  \n  \nVideo Title: Learning How to Play Japan’s Taiko Drums! (Sado Island\, Niigata)\nExperiencing hands-on the unique traditional Japanese drum\, ‘taiko’. 4:35 \n\n 
URL:https://www.tehamacohealthservices.net/event/virtual-drumming-japanese-drumming/
LOCATION:VIRTUAL MEETING
CATEGORIES:Behavioral Health
ATTACH;FMTTYPE=image/jpeg:https://www.tehamacohealthservices.net/wp-content/uploads/2020/05/drum-2187_960_720.jpg
END:VEVENT
END:VCALENDAR