BEGIN:VCALENDAR
VERSION:2.0
PRODID:-//Tehama County Health Services - ECPv6.15.20//NONSGML v1.0//EN
CALSCALE:GREGORIAN
METHOD:PUBLISH
X-ORIGINAL-URL:https://www.tehamacohealthservices.net
X-WR-CALDESC:Events for Tehama County Health Services
REFRESH-INTERVAL;VALUE=DURATION:PT1H
X-Robots-Tag:noindex
X-PUBLISHED-TTL:PT1H
BEGIN:VTIMEZONE
TZID:America/Los_Angeles
BEGIN:DAYLIGHT
TZOFFSETFROM:-0800
TZOFFSETTO:-0700
TZNAME:PDT
DTSTART:20190310T100000
END:DAYLIGHT
BEGIN:STANDARD
TZOFFSETFROM:-0700
TZOFFSETTO:-0800
TZNAME:PST
DTSTART:20191103T090000
END:STANDARD
BEGIN:DAYLIGHT
TZOFFSETFROM:-0800
TZOFFSETTO:-0700
TZNAME:PDT
DTSTART:20200308T100000
END:DAYLIGHT
BEGIN:STANDARD
TZOFFSETFROM:-0700
TZOFFSETTO:-0800
TZNAME:PST
DTSTART:20201101T090000
END:STANDARD
BEGIN:DAYLIGHT
TZOFFSETFROM:-0800
TZOFFSETTO:-0700
TZNAME:PDT
DTSTART:20210314T100000
END:DAYLIGHT
BEGIN:STANDARD
TZOFFSETFROM:-0700
TZOFFSETTO:-0800
TZNAME:PST
DTSTART:20211107T090000
END:STANDARD
END:VTIMEZONE
BEGIN:VEVENT
DTSTART;VALUE=DATE:20200512
DTEND;VALUE=DATE:20200513
DTSTAMP:20260425T115109
CREATED:20200505T233019Z
LAST-MODIFIED:20200505T233019Z
UID:3841-1589241600-1589327999@www.tehamacohealthservices.net
SUMMARY:Virtual Drumming: Body percussion and rhythm games
DESCRIPTION:#StayHome RHYTHM GAMES / DANCE WITH STICKS #WithMe dance for kids and adults \nRhythm games in Spanish and English \n\n  \n  \nVideo Title: Body percussion_Warm Up #12 \nPass the Sound teacher shows how to do body percussion. 5:29 \n\n  \n 
URL:https://www.tehamacohealthservices.net/event/virtual-drumming-body-percussion-and-rhythm-games/
LOCATION:VIRTUAL MEETING
CATEGORIES:Behavioral Health
ATTACH;FMTTYPE=image/jpeg:https://www.tehamacohealthservices.net/wp-content/uploads/2020/05/drum-2187_960_720.jpg
END:VEVENT
END:VCALENDAR