BEGIN:VCALENDAR
VERSION:2.0
PRODID:-//Tehama County Health Services - ECPv6.15.20//NONSGML v1.0//EN
CALSCALE:GREGORIAN
METHOD:PUBLISH
X-ORIGINAL-URL:https://www.tehamacohealthservices.net
X-WR-CALDESC:Events for Tehama County Health Services
REFRESH-INTERVAL;VALUE=DURATION:PT1H
X-Robots-Tag:noindex
X-PUBLISHED-TTL:PT1H
BEGIN:VTIMEZONE
TZID:America/Los_Angeles
BEGIN:DAYLIGHT
TZOFFSETFROM:-0800
TZOFFSETTO:-0700
TZNAME:PDT
DTSTART:20210314T100000
END:DAYLIGHT
BEGIN:STANDARD
TZOFFSETFROM:-0700
TZOFFSETTO:-0800
TZNAME:PST
DTSTART:20211107T090000
END:STANDARD
BEGIN:DAYLIGHT
TZOFFSETFROM:-0800
TZOFFSETTO:-0700
TZNAME:PDT
DTSTART:20220313T100000
END:DAYLIGHT
BEGIN:STANDARD
TZOFFSETFROM:-0700
TZOFFSETTO:-0800
TZNAME:PST
DTSTART:20221106T090000
END:STANDARD
BEGIN:DAYLIGHT
TZOFFSETFROM:-0800
TZOFFSETTO:-0700
TZNAME:PDT
DTSTART:20230312T100000
END:DAYLIGHT
BEGIN:STANDARD
TZOFFSETFROM:-0700
TZOFFSETTO:-0800
TZNAME:PST
DTSTART:20231105T090000
END:STANDARD
END:VTIMEZONE
BEGIN:VEVENT
DTSTART;VALUE=DATE:20220916
DTEND;VALUE=DATE:20220917
DTSTAMP:20260423T083836
CREATED:20220110T163149Z
LAST-MODIFIED:20220110T163149Z
UID:7164-1663286400-1663372799@www.tehamacohealthservices.net
SUMMARY:Free Virtual Mental Health First Aid
DESCRIPTION:Participants will complete a 2-hour\, self-paced class\, and then participate in a 6-hour\, instructor-led class via Zoom. \n\nGo to the following link to get registered:\nhttps://www.eventbrite.com/organizations/events\nFor more information\, contact Avery Vilche at\navery.vilche@tchsa.net\nChoose a class from the following dates in 2022:\nFebruary 18th\, May 5th or 19th\, July 29th\, September 9th or 16th\, December 9th
URL:https://www.tehamacohealthservices.net/event/free-virtual-mental-health-first-aid-6/
CATEGORIES:Behavioral Health,Training
ATTACH;FMTTYPE=application/pdf:https://www.tehamacohealthservices.net/wp-content/uploads/2022/01/Virtual-MHFA-flyer-2022-5.pdf
END:VEVENT
BEGIN:VEVENT
DTSTART;TZID=America/Los_Angeles:20220922T080000
DTEND;TZID=America/Los_Angeles:20220923T170000
DTSTAMP:20260423T083836
CREATED:20220110T162532Z
LAST-MODIFIED:20220110T162532Z
UID:7146-1663833600-1663952400@www.tehamacohealthservices.net
SUMMARY:Applied Suicide Intervention Training
DESCRIPTION:At an ASIST workshop\, you’ll learn how to prevent suicide by recognizing signs\, providing a skilled intervention\, and developing a safety plan.\n \n\nRegister at the link below\nhttps://www.eventbrite.com/organizations/events\nContact Avery for more info: avery.vilche@tchsa.net\nOnly 30 slots available!
URL:https://www.tehamacohealthservices.net/event/applied-suicide-intervention-training-2/
CATEGORIES:Behavioral Health,Training
ATTACH;FMTTYPE=application/pdf:https://www.tehamacohealthservices.net/wp-content/uploads/2022/01/ASIST-2022-1.pdf
END:VEVENT
END:VCALENDAR