BEGIN:VCALENDAR
VERSION:2.0
PRODID:-//Tehama County Health Services - ECPv6.15.20//NONSGML v1.0//EN
CALSCALE:GREGORIAN
METHOD:PUBLISH
X-WR-CALNAME:Tehama County Health Services
X-ORIGINAL-URL:https://www.tehamacohealthservices.net
X-WR-CALDESC:Events for Tehama County Health Services
REFRESH-INTERVAL;VALUE=DURATION:PT1H
X-Robots-Tag:noindex
X-PUBLISHED-TTL:PT1H
BEGIN:VTIMEZONE
TZID:UTC
BEGIN:STANDARD
TZOFFSETFROM:+0000
TZOFFSETTO:+0000
TZNAME:UTC
DTSTART:20210101T000000
END:STANDARD
END:VTIMEZONE
BEGIN:VTIMEZONE
TZID:America/Los_Angeles
BEGIN:DAYLIGHT
TZOFFSETFROM:-0800
TZOFFSETTO:-0700
TZNAME:PDT
DTSTART:20210314T100000
END:DAYLIGHT
BEGIN:STANDARD
TZOFFSETFROM:-0700
TZOFFSETTO:-0800
TZNAME:PST
DTSTART:20211107T090000
END:STANDARD
BEGIN:DAYLIGHT
TZOFFSETFROM:-0800
TZOFFSETTO:-0700
TZNAME:PDT
DTSTART:20220313T100000
END:DAYLIGHT
BEGIN:STANDARD
TZOFFSETFROM:-0700
TZOFFSETTO:-0800
TZNAME:PST
DTSTART:20221106T090000
END:STANDARD
BEGIN:DAYLIGHT
TZOFFSETFROM:-0800
TZOFFSETTO:-0700
TZNAME:PDT
DTSTART:20230312T100000
END:DAYLIGHT
BEGIN:STANDARD
TZOFFSETFROM:-0700
TZOFFSETTO:-0800
TZNAME:PST
DTSTART:20231105T090000
END:STANDARD
END:VTIMEZONE
BEGIN:VEVENT
DTSTART;TZID=UTC:20220510T153000
DTEND;TZID=UTC:20220510T170000
DTSTAMP:20260423T193015
CREATED:20220310T170456Z
LAST-MODIFIED:20220310T170456Z
UID:7292-1652196600-1652202000@www.tehamacohealthservices.net
SUMMARY:Get Inspired with David Woods Bartley
DESCRIPTION:World renown speaker\, David Woods Bartley\, will be sharing his amazing mental wellness journey at the Red Bluff Community Center!  Join us at 1500 South Jackson Street on Tuesday\, May 10th for this free event. \nSeating is limited\, 100 seats available!  Get your tickets now by following this link. \nFor more information contact Avery Vilche at Avery.Vilche@tchsa.net \n\nDownload (PDF\, 256KB)
URL:https://www.tehamacohealthservices.net/event/get-inspired-with-david-woods-bartley/
LOCATION:RB Community Center\, 1500 S. Jackson St.\, Red Bluff\, CA\, 96080
CATEGORIES:Behavioral Health,Healthy Families,Training,Workshop
END:VEVENT
BEGIN:VEVENT
DTSTART;TZID=America/Los_Angeles:20220512T080000
DTEND;TZID=America/Los_Angeles:20220513T170000
DTSTAMP:20260423T193015
CREATED:20220110T162211Z
LAST-MODIFIED:20220110T162305Z
UID:7142-1652342400-1652461200@www.tehamacohealthservices.net
SUMMARY:Applied Suicide Intervention Training
DESCRIPTION:At an ASIST workshop\, you’ll learn how to prevent suicide by recognizing signs\, providing a skilled intervention\, and developing a safety plan. \n\nOnly 30 slots available!\nRegister here: https://www.eventbrite.com/organizations/events
URL:https://www.tehamacohealthservices.net/event/applied-suicide-intervention-training/
CATEGORIES:Behavioral Health,Training
ATTACH;FMTTYPE=application/pdf:https://www.tehamacohealthservices.net/wp-content/uploads/2022/01/ASIST-2022.pdf
END:VEVENT
END:VCALENDAR