BEGIN:VCALENDAR
VERSION:2.0
PRODID:-//Tehama County Health Services - ECPv6.15.20//NONSGML v1.0//EN
CALSCALE:GREGORIAN
METHOD:PUBLISH
X-ORIGINAL-URL:https://www.tehamacohealthservices.net
X-WR-CALDESC:Events for Tehama County Health Services
REFRESH-INTERVAL;VALUE=DURATION:PT1H
X-Robots-Tag:noindex
X-PUBLISHED-TTL:PT1H
BEGIN:VTIMEZONE
TZID:America/Los_Angeles
BEGIN:DAYLIGHT
TZOFFSETFROM:-0800
TZOFFSETTO:-0700
TZNAME:PDT
DTSTART:20210314T100000
END:DAYLIGHT
BEGIN:STANDARD
TZOFFSETFROM:-0700
TZOFFSETTO:-0800
TZNAME:PST
DTSTART:20211107T090000
END:STANDARD
BEGIN:DAYLIGHT
TZOFFSETFROM:-0800
TZOFFSETTO:-0700
TZNAME:PDT
DTSTART:20220313T100000
END:DAYLIGHT
BEGIN:STANDARD
TZOFFSETFROM:-0700
TZOFFSETTO:-0800
TZNAME:PST
DTSTART:20221106T090000
END:STANDARD
BEGIN:DAYLIGHT
TZOFFSETFROM:-0800
TZOFFSETTO:-0700
TZNAME:PDT
DTSTART:20230312T100000
END:DAYLIGHT
BEGIN:STANDARD
TZOFFSETFROM:-0700
TZOFFSETTO:-0800
TZNAME:PST
DTSTART:20231105T090000
END:STANDARD
END:VTIMEZONE
BEGIN:VEVENT
DTSTART;VALUE=DATE:20220218
DTEND;VALUE=DATE:20220219
DTSTAMP:20260424T024329
CREATED:20220110T162757Z
LAST-MODIFIED:20220110T162757Z
UID:7149-1645142400-1645228799@www.tehamacohealthservices.net
SUMMARY:Free Virtual Mental Health First Aid
DESCRIPTION:Participants will complete a 2-hour\, self-paced class\, and then participate in a 6-hour\, instructor-led class via Zoom. \n\nGo to the following link to get registered:\nhttps://www.eventbrite.com/organizations/events\nFor more information\, contact Avery Vilche at\navery.vilche@tchsa.net\nChoose a class from the following dates in 2022:\nFebruary 18th\, May 5th or 19th\, July 29th\, September 9th or 16th\, December 9th
URL:https://www.tehamacohealthservices.net/event/free-virtual-mental-health-first-aid/
CATEGORIES:Behavioral Health,Training
ATTACH;FMTTYPE=application/pdf:https://www.tehamacohealthservices.net/wp-content/uploads/2022/01/Virtual-MHFA-flyer-2022.pdf
END:VEVENT
BEGIN:VEVENT
DTSTART;TZID=America/Los_Angeles:20220221T170000
DTEND;TZID=America/Los_Angeles:20220221T190000
DTSTAMP:20260424T024329
CREATED:20220203T182553Z
LAST-MODIFIED:20220203T182553Z
UID:7274-1645462800-1645470000@www.tehamacohealthservices.net
SUMMARY:Triple P Parenting Classes
DESCRIPTION:Triple P Parenting Flyer – English \nTriple P Parenting Flyer – Spanish
URL:https://www.tehamacohealthservices.net/event/triple-p-parenting-classes/
LOCATION:220 Sycamore St\, 220 Sycamore St\, Red Bluff\, CA\, 96080\, United States
CATEGORIES:Behavioral Health,Healthy Families,Training,Workshop
END:VEVENT
END:VCALENDAR